BEGIN:VCALENDAR
VERSION:2.0
PRODID:-//jEvents 2.0 for Joomla//EN
CALSCALE:GREGORIAN
METHOD:PUBLISH
BEGIN:VEVENT
UID:448367b51bafa32f4c9c22fae78e47fa
CATEGORIES:Discipleship
SUMMARY:VCC Bible Study
DESCRIPTION;ENCODING=QUOTED-PRINTABLE:<p>Join us for online bible study with Bishop Ron D. Willis, as we explore 
 the Word of God. We dive into the text and discover the interpertation and 
 apply the application to our life.</p>
DTSTAMP:20260424T053145Z
DTSTART:20200812T193000Z
DTEND:20200812T203000Z
SEQUENCE:0
RRULE:FREQ=WEEKLY;UNTIL=20300829T000000Z;INTERVAL=1;BYDAY=WE
TRANSP:OPAQUE
END:VEVENT
END:VCALENDAR