BEGIN:VCALENDAR
VERSION:2.0
PRODID:-//jEvents 2.0 for Joomla//EN
CALSCALE:GREGORIAN
METHOD:PUBLISH
BEGIN:VEVENT
UID:37d7e5bbe6972250ffaa27430fa3f1a9
CATEGORIES:Worship
SUMMARY:Worship
DESCRIPTION;ENCODING=QUOTED-PRINTABLE:
DTSTAMP:20260424T040725Z
DTSTART:20200315T100000Z
DTEND:20200315T120000Z
SEQUENCE:0
RRULE:FREQ=WEEKLY;UNTIL=20201228T000000Z;INTERVAL=1;BYDAY=SU
TRANSP:OPAQUE
END:VEVENT
BEGIN:VEVENT
UID:37d7e5bbe6972250ffaa27430fa3f1a9
CATEGORIES:Worship
SUMMARY:Women's History Service
DESCRIPTION;ENCODING=QUOTED-PRINTABLE:

DTSTAMP:20260424T040725Z
DTSTART:20200329T100000Z
DTEND:20200329T120000Z
RECURRENCE-ID:20200329T100000Z
SEQUENCE:0
TRANSP:OPAQUE
END:VEVENT
END:VCALENDAR